BEGIN:VCALENDAR
VERSION:2.0
PRODID:-//wp-events-plugin.com//7.2.3.1//EN
TZID:America/Chicago
X-WR-TIMEZONE:America/Chicago
BEGIN:VEVENT
UID:941@villageinitiativeinc.com
DTSTART:20260616T180000Z
DTEND:20260616T190000Z
DTSTAMP:20240105T212729Z
URL:https://villageinitiativeinc.com/events/spiritual-recovery-support-gro
 up-2026-06-16/
SUMMARY:Spiritual Recovery Support Group
DESCRIPTION:Location: The Village Initiative
ATTACH;FMTTYPE=image/jpeg:https://villageinitiativeinc.com/wp-content/uplo
 ads/2024/01/spiritual.jpg
END:VEVENT
END:VCALENDAR