BEGIN:VCALENDAR
VERSION:2.0
PRODID:-//wp-events-plugin.com//7.2.3.1//EN
TZID:America/Chicago
X-WR-TIMEZONE:America/Chicago
BEGIN:VEVENT
UID:1346@villageinitiativeinc.com
DTSTART:20260914T180000Z
DTEND:20260914T190000Z
DTSTAMP:20240123T033038Z
URL:https://villageinitiativeinc.com/events/life-skills-class-2026-09-14/
SUMMARY:Life Skills Class
DESCRIPTION:Location: The Village Initiative
ATTACH;FMTTYPE=image/jpeg:https://villageinitiativeinc.com/wp-content/uplo
 ads/2024/01/life-skills-1.jpg
END:VEVENT
END:VCALENDAR