BEGIN:VCALENDAR
VERSION:2.0
PRODID:-//wp-events-plugin.com//7.2.3.1//EN
TZID:America/Chicago
X-WR-TIMEZONE:America/Chicago
BEGIN:VEVENT
UID:1495@villageinitiativeinc.com
DTSTART;TZID=America/Chicago:20260613T090000
DTEND;TZID=America/Chicago:20260613T213000
DTSTAMP:20260407T130540Z
URL:https://villageinitiativeinc.com/events/juneteenth-celebration-2016/
SUMMARY:Juneteenth Celebration 2016
DESCRIPTION:SATURDAY \, June 13th\n\n9am- Parade\nThe parade will proceed s
 outh along 5th Street to Washington Blvd.\nLine the route &amp\; cheer on 
 the fun!\nTo enter a vehicle or walk in the parade visit jnthedotte.com\n\
 nCelebration\, 6-9:30 PM\nKaw Point Park 1403 Fairfax Trafficway - KCK\nGr
 eat food\, FREE hot dogs from the grill\, local vendors\, live entertainme
 nt &amp\; family-friendly activities. Arrive early to get special Juneteen
 th giveaways while supplies last! Bring a lawn chair or blanket and enjoy 
 the fireworks at 9 PM!
ATTACH;FMTTYPE=image/jpeg:https://villageinitiativeinc.com/wp-content/uplo
 ads/2026/04/2026-Juneteenth.jpg
CATEGORIES:Featured
END:VEVENT
BEGIN:VTIMEZONE
TZID:America/Chicago
X-LIC-LOCATION:America/Chicago
BEGIN:DAYLIGHT
DTSTART:20260308T030000
TZOFFSETFROM:-0600
TZOFFSETTO:-0500
TZNAME:CDT
END:DAYLIGHT
END:VTIMEZONE
END:VCALENDAR