BEGIN:VCALENDAR
VERSION:2.0
PRODID:-//wp-events-plugin.com//7.2.3.1//EN
TZID:America/Chicago
X-WR-TIMEZONE:America/Chicago
BEGIN:VEVENT
UID:1437@villageinitiativeinc.com
DTSTART:20261212T090000Z
DTEND:20261212T120000Z
DTSTAMP:20240123T033242Z
URL:https://villageinitiativeinc.com/events/cognitive-behavioral-therapy-c
 lass-2026-12-12/
SUMMARY:Cognitive Behavioral Therapy Class
DESCRIPTION:Location: The Village Initiative
ATTACH;FMTTYPE=image/jpeg:https://villageinitiativeinc.com/wp-content/uplo
 ads/2024/01/cbt-1.jpg
END:VEVENT
END:VCALENDAR