BEGIN:VCALENDAR
VERSION:2.0
PRODID:-//wp-events-plugin.com//7.2.3.1//EN
TZID:America/Chicago
X-WR-TIMEZONE:America/Chicago
BEGIN:VEVENT
UID:164@villageinitiativeinc.com
DTSTART:20260813T190000Z
DTEND:20260813T203000Z
DTSTAMP:20240123T033027Z
URL:https://villageinitiativeinc.com/events/ca-meetings-2026-08-13/
SUMMARY:CA Meeting
DESCRIPTION:Location: The Village Initiative
ATTACH;FMTTYPE=image/jpeg:https://villageinitiativeinc.com/wp-content/uplo
 ads/2024/01/calogo.jpg
END:VEVENT
END:VCALENDAR