BEGIN:VCALENDAR
VERSION:2.0
PRODID:-//wp-events-plugin.com//7.2.3.1//EN
TZID:America/Chicago
X-WR-TIMEZONE:America/Chicago
BEGIN:VEVENT
UID:569@villageinitiativeinc.com
DTSTART:20261109T180000Z
DTEND:20261109T190000Z
DTSTAMP:20240105T211926Z
URL:https://villageinitiativeinc.com/events/aa-meeting-2026-11-09/
SUMMARY:AA Meeting
DESCRIPTION:Location: The Village Initiative
ATTACH;FMTTYPE=image/jpeg:https://villageinitiativeinc.com/wp-content/uplo
 ads/2024/01/aaaaa_logo-scaled-1.webp
END:VEVENT
END:VCALENDAR