BEGIN:VCALENDAR
VERSION:2.0
PRODID:-//wp-events-plugin.com//7.2.3.1//EN
TZID:America/Chicago
X-WR-TIMEZONE:America/Chicago
BEGIN:VEVENT
UID:769@villageinitiativeinc.com
DTSTART:20261203T180000Z
DTEND:20261203T190000Z
DTSTAMP:20240105T211951Z
URL:https://villageinitiativeinc.com/events/aa-meeting-2-2026-12-03/
SUMMARY:AA Meeting
DESCRIPTION:Location: The Village Initiative
ATTACH;FMTTYPE=image/jpeg:https://villageinitiativeinc.com/wp-content/uplo
 ads/2024/01/aaaaa_logo-scaled-1.webp
END:VEVENT
END:VCALENDAR